Package: deepSNV Version: 1.56.0 Command: /home/biocbuild/bbs-3.22-bioc/R/bin/R CMD build --keep-empty-dirs --no-resave-data --md5 deepSNV StartedAt: 2025-11-06 17:13:42 -0500 (Thu, 06 Nov 2025) EndedAt: 2025-11-06 17:14:57 -0500 (Thu, 06 Nov 2025) EllapsedTime: 75.0 seconds RetCode: 0 Status: OK PackageFile: deepSNV_1.56.0.tar.gz PackageFileSize: 2.467 MiB