Package: decoupleR Version: 2.14.0 Command: E:\biocbuild\bbs-3.21-bioc\R\bin\R.exe CMD check --no-multiarch --install=check:decoupleR.install-out.txt --library=E:\biocbuild\bbs-3.21-bioc\R\library --no-vignettes --timings decoupleR_2.14.0.tar.gz StartedAt: 2025-08-15 01:17:36 -0400 (Fri, 15 Aug 2025) EndedAt: 2025-08-15 01:27:40 -0400 (Fri, 15 Aug 2025) EllapsedTime: 604.0 seconds RetCode: 0 Status: WARNINGS CheckDir: decoupleR.Rcheck Warnings: 1