Package: decoupleR Version: 2.14.0 Command: rm -rf decoupleR.buildbin-libdir && mkdir decoupleR.buildbin-libdir && E:\biocbuild\bbs-3.21-bioc\R\bin\R.exe CMD INSTALL --build --library=decoupleR.buildbin-libdir decoupleR_2.14.0.tar.gz StartedAt: 2025-08-15 09:08:08 -0400 (Fri, 15 Aug 2025) EndedAt: 2025-08-15 09:08:52 -0400 (Fri, 15 Aug 2025) EllapsedTime: 44.3 seconds RetCode: 0 Status: OK PackageFile: decoupleR_2.14.0.zip PackageFileSize: 3.842 MiB