Package: decoupleR Version: 2.16.0 Command: /home/biocbuild/bbs-3.22-bioc/R/bin/R CMD check --install=check:decoupleR.install-out.txt --library=/home/biocbuild/bbs-3.22-bioc/R/site-library --timings decoupleR_2.16.0.tar.gz StartedAt: 2025-11-09 22:56:41 -0500 (Sun, 09 Nov 2025) EndedAt: 2025-11-09 23:09:39 -0500 (Sun, 09 Nov 2025) EllapsedTime: 778.7 seconds RetCode: 0 Status: WARNINGS CheckDir: decoupleR.Rcheck Warnings: 1