Package: decontam Version: 1.28.0 Command: /home/biocbuild/bbs-3.21-bioc/R/bin/R CMD check --install=check:decontam.install-out.txt --library=/home/biocbuild/bbs-3.21-bioc/R/site-library --timings decontam_1.28.0.tar.gz StartedAt: 2025-10-01 22:28:43 -0400 (Wed, 01 Oct 2025) EndedAt: 2025-10-01 22:30:08 -0400 (Wed, 01 Oct 2025) EllapsedTime: 84.1 seconds RetCode: 0 Status: OK CheckDir: decontam.Rcheck Warnings: 0