Package: decontam Version: 1.28.0 Command: /home/biocbuild/bbs-3.21-bioc/R/bin/R CMD build --keep-empty-dirs --no-resave-data decontam StartedAt: 2025-10-01 17:08:24 -0400 (Wed, 01 Oct 2025) EndedAt: 2025-10-01 17:08:52 -0400 (Wed, 01 Oct 2025) EllapsedTime: 28.0 seconds RetCode: 0 Status: OK PackageFile: decontam_1.28.0.tar.gz PackageFileSize: 702.4 KiB