Package: decontam Version: 1.28.0 Command: rm -rf decontam.buildbin-libdir && mkdir decontam.buildbin-libdir && /Users/biocbuild/BBS/utils/build-universal.sh decontam_1.28.0.tar.gz /Library/Frameworks/R.framework/Resources/bin/R decontam.buildbin-libdir StartedAt: 2025-09-27 17:09:53 -0400 (Sat, 27 Sep 2025) EndedAt: 2025-09-27 17:10:01 -0400 (Sat, 27 Sep 2025) EllapsedTime: 8.0 seconds RetCode: 0 Status: OK PackageFile: decontam_1.28.0.tgz PackageFileSize: 760.7 KiB