Package: decontX Version: 1.8.0 Command: rm -rf decontX.buildbin-libdir && mkdir decontX.buildbin-libdir && /Users/biocbuild/BBS/utils/build-universal.sh decontX_1.8.0.tar.gz /Library/Frameworks/R.framework/Resources/bin/R decontX.buildbin-libdir StartedAt: 2025-11-09 23:05:06 -0500 (Sun, 09 Nov 2025) EndedAt: 2025-11-09 23:06:00 -0500 (Sun, 09 Nov 2025) EllapsedTime: 54.0 seconds RetCode: 0 Status: OK PackageFile: decontX_1.8.0.tgz PackageFileSize: 2.697 MiB