Package: decompTumor2Sig Version: 2.26.0 Command: /home/biocbuild/bbs-3.22-bioc/R/bin/R CMD INSTALL decompTumor2Sig StartedAt: 2025-11-09 16:02:25 -0500 (Sun, 09 Nov 2025) EndedAt: 2025-11-09 16:03:18 -0500 (Sun, 09 Nov 2025) EllapsedTime: 52.7 seconds RetCode: 0 Status: OK