Package: decompTumor2Sig Version: 2.26.0 Command: /home/biocbuild/bbs-3.22-bioc/R/bin/R CMD check --install=check:decompTumor2Sig.install-out.txt --library=/home/biocbuild/bbs-3.22-bioc/R/site-library --timings decompTumor2Sig_2.26.0.tar.gz StartedAt: 2025-11-06 22:42:57 -0500 (Thu, 06 Nov 2025) EndedAt: 2025-11-06 22:54:12 -0500 (Thu, 06 Nov 2025) EllapsedTime: 674.6 seconds RetCode: 0 Status: OK CheckDir: decompTumor2Sig.Rcheck Warnings: 0