Package: debCAM Version: 1.26.0 Command: /Library/Frameworks/R.framework/Resources/bin/R CMD check --install=check:debCAM.install-out.txt --library=/Library/Frameworks/R.framework/Resources/library --no-vignettes --timings debCAM_1.26.0.tar.gz StartedAt: 2025-10-14 02:29:54 -0400 (Tue, 14 Oct 2025) EndedAt: 2025-10-14 02:36:40 -0400 (Tue, 14 Oct 2025) EllapsedTime: 406.2 seconds RetCode: 0 Status: OK CheckDir: debCAM.Rcheck Warnings: 0