Package: dearseq Version: 1.21.0 Command: /home/biocbuild/R/R/bin/R CMD INSTALL dearseq StartedAt: 2025-10-23 20:27:46 -0000 (Thu, 23 Oct 2025) EndedAt: 2025-10-23 20:28:20 -0000 (Thu, 23 Oct 2025) EllapsedTime: 34.8 seconds RetCode: 0 Status: OK