Package: dearseq Version: 1.21.0 Command: /home/biocbuild/R/R/bin/R CMD build --keep-empty-dirs --no-resave-data dearseq StartedAt: 2025-10-20 23:11:11 -0000 (Mon, 20 Oct 2025) EndedAt: 2025-10-20 23:18:01 -0000 (Mon, 20 Oct 2025) EllapsedTime: 410.1 seconds RetCode: 0 Status: OK PackageFile: dearseq_1.21.0.tar.gz PackageFileSize: 523.2 KiB