Package: dearseq Version: 1.21.0 Command: F:\biocbuild\bbs-3.22-bioc\R\bin\R.exe CMD check --no-multiarch --install=check:dearseq.install-out.txt --library=F:\biocbuild\bbs-3.22-bioc\R\library --no-vignettes --timings dearseq_1.21.0.tar.gz StartedAt: 2025-08-15 02:18:59 -0400 (Fri, 15 Aug 2025) EndedAt: 2025-08-15 02:20:45 -0400 (Fri, 15 Aug 2025) EllapsedTime: 105.9 seconds RetCode: 0 Status: OK CheckDir: dearseq.Rcheck Warnings: 0