Package: ddPCRclust Version: 1.29.0 Command: /home/biocbuild/R/R/bin/R CMD check --install=check:ddPCRclust.install-out.txt --library=/home/biocbuild/R/R/site-library --no-vignettes --timings ddPCRclust_1.29.0.tar.gz StartedAt: 2025-10-21 07:11:14 -0000 (Tue, 21 Oct 2025) EndedAt: 2025-10-21 07:14:57 -0000 (Tue, 21 Oct 2025) EllapsedTime: 223.1 seconds RetCode: 0 Status: OK CheckDir: ddPCRclust.Rcheck Warnings: 0