Package: ddCt Version: 1.66.0 Command: /home/biocbuild/R/R/bin/R CMD INSTALL ddCt StartedAt: 2025-11-10 21:20:32 -0000 (Mon, 10 Nov 2025) EndedAt: 2025-11-10 21:20:40 -0000 (Mon, 10 Nov 2025) EllapsedTime: 7.1 seconds RetCode: 0 Status: OK