Package: ddCt Version: 1.66.0 Command: /home/biocbuild/R/R/bin/R CMD build --keep-empty-dirs --no-resave-data ddCt StartedAt: 2025-11-11 01:00:47 -0000 (Tue, 11 Nov 2025) EndedAt: 2025-11-11 01:01:04 -0000 (Tue, 11 Nov 2025) EllapsedTime: 17.0 seconds RetCode: 0 Status: OK PackageFile: ddCt_1.66.0.tar.gz PackageFileSize: 758 KiB