Package: ddCt Version: 1.66.0 Command: /home/biocbuild/bbs-3.22-bioc/R/bin/R CMD check --install=check:ddCt.install-out.txt --library=/home/biocbuild/bbs-3.22-bioc/R/site-library --timings ddCt_1.66.0.tar.gz StartedAt: 2025-11-09 22:54:26 -0500 (Sun, 09 Nov 2025) EndedAt: 2025-11-09 22:55:08 -0500 (Sun, 09 Nov 2025) EllapsedTime: 42.0 seconds RetCode: 0 Status: WARNINGS CheckDir: ddCt.Rcheck Warnings: 1