Package: dcanr Version: 1.24.0 Command: /home/biocbuild/bbs-3.21-bioc/R/bin/R CMD check --install=check:dcanr.install-out.txt --library=/home/biocbuild/bbs-3.21-bioc/R/site-library --timings dcanr_1.24.0.tar.gz StartedAt: 2025-10-15 22:21:21 -0400 (Wed, 15 Oct 2025) EndedAt: 2025-10-15 22:23:04 -0400 (Wed, 15 Oct 2025) EllapsedTime: 103.1 seconds RetCode: 0 Status: OK CheckDir: dcanr.Rcheck Warnings: 0