Package: dcanr Version: 1.24.0 Command: /home/biocbuild/bbs-3.21-bioc/R/bin/R CMD build --keep-empty-dirs --no-resave-data dcanr StartedAt: 2025-10-15 17:04:37 -0400 (Wed, 15 Oct 2025) EndedAt: 2025-10-15 17:05:24 -0400 (Wed, 15 Oct 2025) EllapsedTime: 47.0 seconds RetCode: 0 Status: OK PackageFile: dcanr_1.24.0.tar.gz PackageFileSize: 1.712 MiB