Package: dar Version: 1.5.2 Command: /home/biocbuild/R/R/bin/R CMD build --keep-empty-dirs --no-resave-data dar StartedAt: 2025-10-20 23:10:11 -0000 (Mon, 20 Oct 2025) EndedAt: 2025-10-20 23:16:34 -0000 (Mon, 20 Oct 2025) EllapsedTime: 383.1 seconds RetCode: 0 Status: OK PackageFile: dar_1.5.2.tar.gz PackageFileSize: 4.115 MiB