Package: dar Version: 1.6.0 Command: /home/biocbuild/bbs-3.22-bioc/R/bin/R CMD build --keep-empty-dirs --no-resave-data --md5 dar StartedAt: 2025-11-09 17:15:37 -0500 (Sun, 09 Nov 2025) EndedAt: 2025-11-09 17:20:02 -0500 (Sun, 09 Nov 2025) EllapsedTime: 264.2 seconds RetCode: 0 Status: OK PackageFile: dar_1.6.0.tar.gz PackageFileSize: 3.301 MiB