Package: dar Version: 1.6.0 Command: /Library/Frameworks/R.framework/Resources/bin/R CMD build --keep-empty-dirs --no-resave-data dar StartedAt: 2025-11-10 16:07:47 -0500 (Mon, 10 Nov 2025) EndedAt: 2025-11-10 16:09:29 -0500 (Mon, 10 Nov 2025) EllapsedTime: 102.1 seconds RetCode: 0 Status: OK PackageFile: dar_1.6.0.tar.gz PackageFileSize: 3.254 MiB