Package: dandelionR Version: 1.0.2 Command: E:\biocbuild\bbs-3.21-bioc\R\bin\R.exe CMD check --no-multiarch --install=check:dandelionR.install-out.txt --library=E:\biocbuild\bbs-3.21-bioc\R\library --no-vignettes --timings dandelionR_1.0.2.tar.gz StartedAt: 2025-08-15 01:12:14 -0400 (Fri, 15 Aug 2025) EndedAt: 2025-08-15 01:18:51 -0400 (Fri, 15 Aug 2025) EllapsedTime: 396.4 seconds RetCode: 0 Status: OK CheckDir: dandelionR.Rcheck Warnings: 0