Package: dandelionR Version: 1.0.2 Command: /home/biocbuild/bbs-3.21-bioc/R/bin/R CMD check --install=check:dandelionR.install-out.txt --library=/home/biocbuild/bbs-3.21-bioc/R/site-library --timings dandelionR_1.0.2.tar.gz StartedAt: 2025-10-15 22:19:39 -0400 (Wed, 15 Oct 2025) EndedAt: 2025-10-15 22:27:40 -0400 (Wed, 15 Oct 2025) EllapsedTime: 481.5 seconds RetCode: 0 Status: OK CheckDir: dandelionR.Rcheck Warnings: 0