Package: dandelionR Version: 1.0.2 Command: /home/biocbuild/R/R/bin/R CMD check --install=check:dandelionR.install-out.txt --library=/home/biocbuild/R/R/site-library --no-vignettes --timings dandelionR_1.0.2.tar.gz StartedAt: 2025-10-14 08:11:18 -0000 (Tue, 14 Oct 2025) EndedAt: 2025-10-14 08:18:34 -0000 (Tue, 14 Oct 2025) EllapsedTime: 436.2 seconds RetCode: 0 Status: OK CheckDir: dandelionR.Rcheck Warnings: 0