Package: dandelionR Version: 1.0.0 Command: /Library/Frameworks/R.framework/Resources/bin/R CMD check --install=check:dandelionR.install-out.txt --library=/Library/Frameworks/R.framework/Resources/library --no-vignettes --timings dandelionR_1.0.0.tar.gz StartedAt: 2025-04-21 18:59:00 -0400 (Mon, 21 Apr 2025) EndedAt: 2025-04-21 19:01:05 -0400 (Mon, 21 Apr 2025) EllapsedTime: 124.5 seconds RetCode: 0 Status: OK CheckDir: dandelionR.Rcheck Warnings: 0