Package: dagLogo Version: 1.48.0 Command: /home/biocbuild/bbs-3.22-bioc/R/bin/R CMD build --keep-empty-dirs --no-resave-data --md5 dagLogo StartedAt: 2025-11-10 17:15:40 -0500 (Mon, 10 Nov 2025) EndedAt: 2025-11-10 17:17:24 -0500 (Mon, 10 Nov 2025) EllapsedTime: 104.1 seconds RetCode: 0 Status: OK PackageFile: dagLogo_1.48.0.tar.gz PackageFileSize: 2.659 MiB