Package: daMA Version: 1.81.0 Command: /home/biocbuild/R/R/bin/R CMD INSTALL daMA StartedAt: 2025-10-23 20:18:38 -0000 (Thu, 23 Oct 2025) EndedAt: 2025-10-23 20:19:12 -0000 (Thu, 23 Oct 2025) EllapsedTime: 33.7 seconds RetCode: 0 Status: OK