Package: daMA Version: 1.81.0 Command: /home/biocbuild/R/R/bin/R CMD build --keep-empty-dirs --no-resave-data daMA StartedAt: 2025-10-20 23:09:23 -0000 (Mon, 20 Oct 2025) EndedAt: 2025-10-20 23:09:25 -0000 (Mon, 20 Oct 2025) EllapsedTime: 2.0 seconds RetCode: 0 Status: OK PackageFile: daMA_1.81.0.tar.gz PackageFileSize: 4.026 MiB