Package: daMA Version: 1.82.0 Command: /home/biocbuild/bbs-3.22-bioc/R/bin/R CMD check --install=check:daMA.install-out.txt --library=/home/biocbuild/bbs-3.22-bioc/R/site-library --timings daMA_1.82.0.tar.gz StartedAt: 2025-11-06 22:38:44 -0500 (Thu, 06 Nov 2025) EndedAt: 2025-11-06 22:39:05 -0500 (Thu, 06 Nov 2025) EllapsedTime: 21.0 seconds RetCode: 0 Status: OK CheckDir: daMA.Rcheck Warnings: 0