Package: daMA Version: 1.82.0 Command: rm -rf daMA.buildbin-libdir && mkdir daMA.buildbin-libdir && /Users/biocbuild/BBS/utils/build-universal.sh daMA_1.82.0.tar.gz /Library/Frameworks/R.framework/Resources/bin/R daMA.buildbin-libdir StartedAt: 2025-11-06 23:01:51 -0500 (Thu, 06 Nov 2025) EndedAt: 2025-11-06 23:01:53 -0500 (Thu, 06 Nov 2025) EllapsedTime: 2.0 seconds RetCode: 0 Status: OK PackageFile: daMA_1.82.0.tgz PackageFileSize: 4.059 MiB