Package: daMA Version: 1.82.0 Maintainer: Jobst Landgrebe MaintainerEmail: jlandgr1 at gwdg.de git_url: https://git.bioconductor.org/packages/daMA git_branch: RELEASE_3_22 git_last_commit: c18c4d3 git_last_commit_date: 2025-10-29 09:53:44 -0500 (Wed, 29 Oct 2025)