Package: dStruct Version: 1.16.0 Command: /home/biocbuild/bbs-3.22-bioc/R/bin/R CMD build --keep-empty-dirs --no-resave-data --md5 dStruct StartedAt: 2025-11-09 17:30:30 -0500 (Sun, 09 Nov 2025) EndedAt: 2025-11-09 17:30:48 -0500 (Sun, 09 Nov 2025) EllapsedTime: 18.0 seconds RetCode: 0 Status: OK PackageFile: dStruct_1.16.0.tar.gz PackageFileSize: 559.4 KiB