Package: dStruct Version: 1.16.0 Command: /Library/Frameworks/R.framework/Resources/bin/R CMD INSTALL dStruct StartedAt: 2025-11-03 15:20:55 -0500 (Mon, 03 Nov 2025) EndedAt: 2025-11-03 15:21:11 -0500 (Mon, 03 Nov 2025) EllapsedTime: 15.3 seconds RetCode: 0 Status: OK