Package: dStruct Version: 1.16.0 Command: /Library/Frameworks/R.framework/Resources/bin/R CMD build --keep-empty-dirs --no-resave-data dStruct StartedAt: 2025-11-03 16:52:58 -0500 (Mon, 03 Nov 2025) EndedAt: 2025-11-03 16:53:22 -0500 (Mon, 03 Nov 2025) EllapsedTime: 24.0 seconds RetCode: 0 Status: OK PackageFile: dStruct_1.16.0.tar.gz PackageFileSize: 557.3 KiB