Package: cytoviewer Version: 1.9.0 Command: rm -rf cytoviewer.buildbin-libdir && mkdir cytoviewer.buildbin-libdir && F:\biocbuild\bbs-3.22-bioc\R\bin\R.exe CMD INSTALL --build --library=cytoviewer.buildbin-libdir cytoviewer_1.9.0.tar.gz StartedAt: 2025-08-15 10:05:06 -0400 (Fri, 15 Aug 2025) EndedAt: 2025-08-15 10:06:10 -0400 (Fri, 15 Aug 2025) EllapsedTime: 64.1 seconds RetCode: 0 Status: OK PackageFile: cytoviewer_1.9.0.zip PackageFileSize: 4.874 MiB