Package: cytoviewer Version: 1.8.0 Command: /home/biocbuild/bbs-3.21-bioc/R/bin/R CMD INSTALL cytoviewer StartedAt: 2025-10-15 15:35:53 -0400 (Wed, 15 Oct 2025) EndedAt: 2025-10-15 15:36:41 -0400 (Wed, 15 Oct 2025) EllapsedTime: 48.4 seconds RetCode: 0 Status: OK