Package: cytoviewer Version: 1.8.0 Command: /home/biocbuild/bbs-3.21-bioc/R/bin/R CMD build --keep-empty-dirs --no-resave-data cytoviewer StartedAt: 2025-10-15 17:03:06 -0400 (Wed, 15 Oct 2025) EndedAt: 2025-10-15 17:04:18 -0400 (Wed, 15 Oct 2025) EllapsedTime: 72.1 seconds RetCode: 0 Status: OK PackageFile: cytoviewer_1.8.0.tar.gz PackageFileSize: 9.26 MiB