Package: cytoviewer Version: 1.8.0 Command: /home/biocbuild/R/R/bin/R CMD check --install=check:cytoviewer.install-out.txt --library=/home/biocbuild/R/R/site-library --no-vignettes --timings cytoviewer_1.8.0.tar.gz StartedAt: 2025-10-14 08:08:44 -0000 (Tue, 14 Oct 2025) EndedAt: 2025-10-14 08:17:16 -0000 (Tue, 14 Oct 2025) EllapsedTime: 511.3 seconds RetCode: 0 Status: OK CheckDir: cytoviewer.Rcheck Warnings: 0