Package: cytoviewer Version: 1.10.0 Command: /Library/Frameworks/R.framework/Resources/bin/R CMD check --install=check:cytoviewer.install-out.txt --library=/Library/Frameworks/R.framework/Resources/library --no-vignettes --timings cytoviewer_1.10.0.tar.gz StartedAt: 2025-10-30 19:18:19 -0400 (Thu, 30 Oct 2025) EndedAt: 2025-10-30 19:20:36 -0400 (Thu, 30 Oct 2025) EllapsedTime: 136.6 seconds RetCode: 0 Status: OK CheckDir: cytoviewer.Rcheck Warnings: 0