Package: cytoviewer Version: 1.8.0 Command: /Library/Frameworks/R.framework/Resources/bin/R CMD build --keep-empty-dirs --no-resave-data cytoviewer StartedAt: 2025-04-21 16:04:53 -0400 (Mon, 21 Apr 2025) EndedAt: 2025-04-21 16:05:30 -0400 (Mon, 21 Apr 2025) EllapsedTime: 36.4 seconds RetCode: 0 Status: OK PackageFile: cytoviewer_1.8.0.tar.gz PackageFileSize: 9.261 MiB