Package: cytomapper Version: 1.22.0 Command: /home/biocbuild/R/R/bin/R CMD check --install=check:cytomapper.install-out.txt --library=/home/biocbuild/R/R/site-library --no-vignettes --timings cytomapper_1.22.0.tar.gz StartedAt: 2025-11-14 08:30:15 -0000 (Fri, 14 Nov 2025) EndedAt: 2025-11-14 08:50:01 -0000 (Fri, 14 Nov 2025) EllapsedTime: 1186.0 seconds RetCode: 0 Status: OK CheckDir: cytomapper.Rcheck Warnings: 0