Package: cytomapper Version: 1.22.0 Command: /home/biocbuild/R/R/bin/R CMD build --keep-empty-dirs --no-resave-data cytomapper StartedAt: 2025-11-14 01:02:12 -0000 (Fri, 14 Nov 2025) EndedAt: 2025-11-14 01:04:28 -0000 (Fri, 14 Nov 2025) EllapsedTime: 136.1 seconds RetCode: 0 Status: OK PackageFile: cytomapper_1.22.0.tar.gz PackageFileSize: 19.83 MiB