Package: cytomapper Version: 1.22.0 Command: /home/biocbuild/bbs-3.22-bioc/R/bin/R CMD INSTALL cytomapper StartedAt: 2025-11-16 15:37:14 -0500 (Sun, 16 Nov 2025) EndedAt: 2025-11-16 15:38:11 -0500 (Sun, 16 Nov 2025) EllapsedTime: 57.8 seconds RetCode: 0 Status: OK