Package: cytolib Version: 2.22.0 Command: /home/biocbuild/bbs-3.22-bioc/R/bin/R CMD build --keep-empty-dirs --no-resave-data --md5 cytolib StartedAt: 2025-11-09 17:13:35 -0500 (Sun, 09 Nov 2025) EndedAt: 2025-11-09 17:16:07 -0500 (Sun, 09 Nov 2025) EllapsedTime: 152.2 seconds RetCode: 0 Status: OK PackageFile: cytolib_2.22.0.tar.gz PackageFileSize: 5.822 MiB