Package: cytoMEM Version: 1.13.0 Command: /home/biocbuild/R/R/bin/R CMD check --install=check:cytoMEM.install-out.txt --library=/home/biocbuild/R/R/site-library --no-vignettes --timings cytoMEM_1.13.0.tar.gz StartedAt: 2025-10-21 07:06:18 -0000 (Tue, 21 Oct 2025) EndedAt: 2025-10-21 07:07:24 -0000 (Tue, 21 Oct 2025) EllapsedTime: 65.1 seconds RetCode: 0 Status: OK CheckDir: cytoMEM.Rcheck Warnings: 0