Package: cytoKernel Version: 1.16.0 Command: /home/biocbuild/bbs-3.22-bioc/R/bin/R CMD check --install=check:cytoKernel.install-out.txt --library=/home/biocbuild/bbs-3.22-bioc/R/site-library --timings cytoKernel_1.16.0.tar.gz StartedAt: 2025-11-09 22:49:47 -0500 (Sun, 09 Nov 2025) EndedAt: 2025-11-09 22:53:34 -0500 (Sun, 09 Nov 2025) EllapsedTime: 227.2 seconds RetCode: 0 Status: OK CheckDir: cytoKernel.Rcheck Warnings: 0