Package: cycle Version: 1.62.0 Command: /home/biocbuild/bbs-3.21-bioc/R/bin/R CMD build --keep-empty-dirs --no-resave-data cycle StartedAt: 2025-10-15 17:00:53 -0400 (Wed, 15 Oct 2025) EndedAt: 2025-10-15 17:01:17 -0400 (Wed, 15 Oct 2025) EllapsedTime: 24.0 seconds RetCode: 0 Status: OK PackageFile: cycle_1.62.0.tar.gz PackageFileSize: 247.8 KiB