Package: cycle Version: 1.62.0 Command: /home/biocbuild/R/R/bin/R CMD check --install=check:cycle.install-out.txt --library=/home/biocbuild/R/R/site-library --no-vignettes --timings cycle_1.62.0.tar.gz StartedAt: 2025-10-14 08:04:28 -0000 (Tue, 14 Oct 2025) EndedAt: 2025-10-14 08:04:57 -0000 (Tue, 14 Oct 2025) EllapsedTime: 29.0 seconds RetCode: 0 Status: OK CheckDir: cycle.Rcheck Warnings: 0